BEGIN:VCALENDAR
VERSION:2.0
PRODID:www.gruene-goch.de
METHOD:PUBLISH
BEGIN:VTIMEZONE
TZID:Europe/Berlin
X-LIC-LOCATION:Europe/Berlin
BEGIN:DAYLIGHT
TZOFFSETFROM:+0100
TZOFFSETTO:+0200
TZNAME:CEST
DTSTART:19700329T020000
RRULE:FREQ=YEARLY;INTERVAL=1;BYDAY=-1SU;BYMONTH=3
END:DAYLIGHT
BEGIN:STANDARD
TZOFFSETFROM:+0200
TZOFFSETTO:+0100
TZNAME:CET
DTSTART:19701025T030000
RRULE:FREQ=YEARLY;INTERVAL=1;BYDAY=-1SU;BYMONTH=10
END:STANDARD
END:VTIMEZONE
BEGIN:VEVENT
UID:3656a86e56ef1c857cc80375e365b870@www.gruene-goch.de
URL;VALUE=URI:https://www.gruene-goch.de/termine/offenes-buero-anlaesslic
 h-des-maifestes/
LOCATION:GRÜNES Büro, Voßstr. 71-73, Goch
SUMMARY:Offenes Büro anlässlich des Maifestes
DESCRIPTION;ALTREP="data:text/html,":
CLASS:PUBLIC
DTSTART;TZID=Europe/Berlin:20260503T130000
DTEND;TZID=Europe/Berlin:20260503T180000
DTSTAMP:20260425T133447
END:VEVENT
END:VCALENDAR